BEGIN:VCALENDAR
VERSION:2.0
PRODID:-//wp-events-plugin.com//7.2.3.1//EN
BEGIN:VEVENT
UID:3@versatile.consulting
DTSTART;TZID=Europe/Madrid:20240308T113000
DTEND;TZID=Europe/Madrid:20240308T121500
DTSTAMP:20251124T093110Z
URL:https://versatile.consulting/events/bpc-barcelona/
SUMMARY:BPC Barcelona
DESCRIPTION:Navigating Transformations: The Human Challenges of Change
ATTACH;FMTTYPE=image/jpeg:https://versatile.consulting/wp-content/uploads/
 2023/12/Save.png
CATEGORIES:Business Transformation,Conference Talks
LOCATION:BPC Barcelona\, Avenida Diagonal 589-591\, Barcelona\, 08014\, Spa
 in
X-APPLE-STRUCTURED-LOCATION;VALUE=URI;X-ADDRESS=Avenida Diagonal 589-591\, 
 Barcelona\, 08014\, Spain;X-APPLE-RADIUS=100;X-TITLE=BPC Barcelona:geo:0,0
END:VEVENT
BEGIN:VTIMEZONE
TZID:Europe/Madrid
X-LIC-LOCATION:Europe/Madrid
BEGIN:STANDARD
DTSTART:20231029T020000
TZOFFSETFROM:+0200
TZOFFSETTO:+0100
TZNAME:CET
END:STANDARD
END:VTIMEZONE
END:VCALENDAR